BEGIN:VCALENDAR
VERSION:2.0
PRODID:-//OLS Parish - ECPv6.15.20//NONSGML v1.0//EN
CALSCALE:GREGORIAN
METHOD:PUBLISH
X-ORIGINAL-URL:https://www.olsparish.com
X-WR-CALDESC:Events for OLS Parish
REFRESH-INTERVAL;VALUE=DURATION:PT1H
X-Robots-Tag:noindex
X-PUBLISHED-TTL:PT1H
BEGIN:VTIMEZONE
TZID:America/Los_Angeles
BEGIN:DAYLIGHT
TZOFFSETFROM:-0800
TZOFFSETTO:-0700
TZNAME:PDT
DTSTART:20230312T100000
END:DAYLIGHT
BEGIN:STANDARD
TZOFFSETFROM:-0700
TZOFFSETTO:-0800
TZNAME:PST
DTSTART:20231105T090000
END:STANDARD
BEGIN:DAYLIGHT
TZOFFSETFROM:-0800
TZOFFSETTO:-0700
TZNAME:PDT
DTSTART:20240310T100000
END:DAYLIGHT
BEGIN:STANDARD
TZOFFSETFROM:-0700
TZOFFSETTO:-0800
TZNAME:PST
DTSTART:20241103T090000
END:STANDARD
BEGIN:DAYLIGHT
TZOFFSETFROM:-0800
TZOFFSETTO:-0700
TZNAME:PDT
DTSTART:20250309T100000
END:DAYLIGHT
BEGIN:STANDARD
TZOFFSETFROM:-0700
TZOFFSETTO:-0800
TZNAME:PST
DTSTART:20251102T090000
END:STANDARD
BEGIN:DAYLIGHT
TZOFFSETFROM:-0800
TZOFFSETTO:-0700
TZNAME:PDT
DTSTART:20260308T100000
END:DAYLIGHT
BEGIN:STANDARD
TZOFFSETFROM:-0700
TZOFFSETTO:-0800
TZNAME:PST
DTSTART:20261101T090000
END:STANDARD
END:VTIMEZONE
BEGIN:VEVENT
DTSTART;TZID=America/Los_Angeles:20241217T190000
DTEND;TZID=America/Los_Angeles:20241217T200000
DTSTAMP:20260421T013815
CREATED:20241120T025618Z
LAST-MODIFIED:20241120T033312Z
UID:3574-1734462000-1734465600@www.olsparish.com
SUMMARY:Young Adult Faith Sharing
DESCRIPTION:Young Adult Faith Sharing \n\n\n\n7pm at the Rock House.
URL:https://www.olsparish.com/event/young-adult-faith-sharing-2/
ATTACH;FMTTYPE=image/jpeg:https://www.olsparish.com/wp-content/uploads/2024/11/Young-adults-2.jpg
END:VEVENT
BEGIN:VEVENT
DTSTART;TZID=America/Los_Angeles:20241217T190000
DTEND;TZID=America/Los_Angeles:20241217T210000
DTSTAMP:20260421T013815
CREATED:20241122T013016Z
LAST-MODIFIED:20241122T013022Z
UID:3677-1734462000-1734469200@www.olsparish.com
SUMMARY:Faith Sharing Potluck
DESCRIPTION:Bring your favorite side dish or dessert and your faith as we read and discuss the upcoming week’s Gospel
URL:https://www.olsparish.com/event/faith-sharing-potluck/
LOCATION:The Rock House 1045 Lander Street Reno\, NV 89509
ATTACH;FMTTYPE=image/jpeg:https://www.olsparish.com/wp-content/uploads/2024/11/Faith-Sharing-Potluck.jpg
END:VEVENT
BEGIN:VEVENT
DTSTART;TZID=America/Los_Angeles:20241224T160000
DTEND;TZID=America/Los_Angeles:20241224T170000
DTSTAMP:20260421T013815
CREATED:20241120T033432Z
LAST-MODIFIED:20241120T033438Z
UID:3581-1735056000-1735059600@www.olsparish.com
SUMMARY:Christmas Eve Mass
DESCRIPTION:Christmas Eve Masses \n\n\n\n4pm in the Church and Chapel
URL:https://www.olsparish.com/event/christmas-eve-mass/
END:VEVENT
BEGIN:VEVENT
DTSTART;TZID=America/Los_Angeles:20241224T180000
DTEND;TZID=America/Los_Angeles:20241224T190000
DTSTAMP:20260421T013815
CREATED:20241120T033850Z
LAST-MODIFIED:20241120T033854Z
UID:3588-1735063200-1735066800@www.olsparish.com
SUMMARY:Christmas Eve Mass
DESCRIPTION:
URL:https://www.olsparish.com/event/christmas-eve-mass-2/
END:VEVENT
BEGIN:VEVENT
DTSTART;TZID=America/Los_Angeles:20241224T200000
DTEND;TZID=America/Los_Angeles:20241224T210000
DTSTAMP:20260421T013815
CREATED:20241120T034007Z
LAST-MODIFIED:20241120T034018Z
UID:3590-1735070400-1735074000@www.olsparish.com
SUMMARY:Christmas Eve Mass
DESCRIPTION:
URL:https://www.olsparish.com/event/christmas-eve-mass-3/
END:VEVENT
BEGIN:VEVENT
DTSTART;TZID=America/Los_Angeles:20241225T090000
DTEND;TZID=America/Los_Angeles:20241225T100000
DTSTAMP:20260421T013815
CREATED:20241120T034140Z
LAST-MODIFIED:20241120T034148Z
UID:3592-1735117200-1735120800@www.olsparish.com
SUMMARY:Christmas Day Mass
DESCRIPTION:
URL:https://www.olsparish.com/event/christmas-day-mass/
END:VEVENT
BEGIN:VEVENT
DTSTART;TZID=America/Los_Angeles:20241225T110000
DTEND;TZID=America/Los_Angeles:20241225T120000
DTSTAMP:20260421T013815
CREATED:20241120T034252Z
LAST-MODIFIED:20241120T034301Z
UID:3594-1735124400-1735128000@www.olsparish.com
SUMMARY:Christmas Day Mass
DESCRIPTION:
URL:https://www.olsparish.com/event/christmas-day-mass-2/
END:VEVENT
BEGIN:VEVENT
DTSTART;TZID=America/Los_Angeles:20241226T080000
DTEND;TZID=America/Los_Angeles:20241226T090000
DTSTAMP:20260421T013815
CREATED:20241218T051959Z
LAST-MODIFIED:20241218T052004Z
UID:3815-1735200000-1735203600@www.olsparish.com
SUMMARY:Mass
DESCRIPTION:
URL:https://www.olsparish.com/event/mass-30/
END:VEVENT
BEGIN:VEVENT
DTSTART;TZID=America/Los_Angeles:20250101T090000
DTEND;TZID=America/Los_Angeles:20250101T100000
DTSTAMP:20260421T013815
CREATED:20241120T034356Z
LAST-MODIFIED:20241231T125444Z
UID:3596-1735722000-1735725600@www.olsparish.com
SUMMARY:Mass 
DESCRIPTION:
URL:https://www.olsparish.com/event/mass-29/
END:VEVENT
BEGIN:VEVENT
DTSTART;TZID=America/Los_Angeles:20250107T190000
DTEND;TZID=America/Los_Angeles:20250107T210000
DTSTAMP:20260421T013815
CREATED:20241121T235841Z
LAST-MODIFIED:20250707T143014Z
UID:3637-1736276400-1736283600@www.olsparish.com
SUMMARY:Young Adult Faith Sharing
DESCRIPTION:Share food and friendship as we read and discuss the upcoming week’s Gospel.
URL:https://www.olsparish.com/event/faith-sharing-3/
LOCATION:The Rock House 1045 Lander Street Reno\, NV 89509
ATTACH;FMTTYPE=image/jpeg:https://www.olsparish.com/wp-content/uploads/2024/11/Faith-Sharing.jpg
END:VEVENT
BEGIN:VEVENT
DTSTART;TZID=America/Los_Angeles:20250110T170000
DTEND;TZID=America/Los_Angeles:20250111T170000
DTSTAMP:20260421T013815
CREATED:20241122T012533Z
LAST-MODIFIED:20241228T043827Z
UID:3674-1736528400-1736614800@www.olsparish.com
SUMMARY:Annual Diocesan Conference
DESCRIPTION:https://www.highdesertcatholic.org/renodiocesanconference
URL:https://www.olsparish.com/event/annual-diocesan-conference/
END:VEVENT
BEGIN:VEVENT
DTSTART;TZID=America/Los_Angeles:20250112T150000
DTEND;TZID=America/Los_Angeles:20250112T164500
DTSTAMP:20260421T013815
CREATED:20241017T233053Z
LAST-MODIFIED:20241017T233429Z
UID:3226-1736694000-1736700300@www.olsparish.com
SUMMARY:Youth Ministry Faith Sharing
DESCRIPTION:
URL:https://www.olsparish.com/event/youth-ministry-faith-sharing-3/
CATEGORIES:Youth Ministry
END:VEVENT
BEGIN:VEVENT
DTSTART;TZID=America/Los_Angeles:20250114T173000
DTEND;TZID=America/Los_Angeles:20250114T183000
DTSTAMP:20260421T013815
CREATED:20241029T080604Z
LAST-MODIFIED:20241029T080608Z
UID:3457-1736875800-1736879400@www.olsparish.com
SUMMARY:Parish Holy Hour
DESCRIPTION:
URL:https://www.olsparish.com/event/parish-holy-hour-13/
LOCATION:OLS Parish Center
ATTACH;FMTTYPE=image/jpeg:https://www.olsparish.com/wp-content/uploads/2024/10/monstrance.jpg
END:VEVENT
BEGIN:VEVENT
DTSTART;TZID=America/Los_Angeles:20250114T190000
DTEND;TZID=America/Los_Angeles:20250114T200000
DTSTAMP:20260421T013815
CREATED:20250109T233241Z
LAST-MODIFIED:20250109T233245Z
UID:3951-1736881200-1736884800@www.olsparish.com
SUMMARY:Men’s Study of the Mass
DESCRIPTION:Every 2nd & 4th Tuesday of the Month starting Jan 14th \n\n\n\n7-8 pm at the Parish Center \n\n\n\nCome learn more of the meaning underlying the Mass using Bishop Mueggenborg’s Meaning of the Mass.
URL:https://www.olsparish.com/event/mens-study-of-the-mass/
LOCATION:OLS Parish Center
END:VEVENT
BEGIN:VEVENT
DTSTART;TZID=America/Los_Angeles:20250118T100000
DTEND;TZID=America/Los_Angeles:20250118T110000
DTSTAMP:20260421T013815
CREATED:20241228T044315Z
LAST-MODIFIED:20250115T234135Z
UID:3870-1737194400-1737198000@www.olsparish.com
SUMMARY:Snowshoeing at Chickadee Ridge
DESCRIPTION:Join us as we shoeshoe up to Chickadee Ridge for a unique winter experience. Weather Permiting.
URL:https://www.olsparish.com/event/first-aid-training-snowshoeing-double-header/
LOCATION:The Rock House 1045 Lander Street Reno\, NV 89509
END:VEVENT
BEGIN:VEVENT
DTSTART;TZID=America/Los_Angeles:20250118T120000
DTEND;TZID=America/Los_Angeles:20250118T130000
DTSTAMP:20260421T013815
CREATED:20250103T003017Z
LAST-MODIFIED:20250103T003022Z
UID:3903-1737201600-1737205200@www.olsparish.com
SUMMARY:Bradshaw Funeral
DESCRIPTION:
URL:https://www.olsparish.com/event/bradshaw-funeral/
END:VEVENT
BEGIN:VEVENT
DTSTART;TZID=America/Los_Angeles:20250118T183000
DTEND;TZID=America/Los_Angeles:20250118T203000
DTSTAMP:20260421T013815
CREATED:20241224T004819Z
LAST-MODIFIED:20241224T004823Z
UID:3851-1737225000-1737232200@www.olsparish.com
SUMMARY:Youth Ministry - Ice Skating
DESCRIPTION:Youth Ministry \n\n\n\nIce Skating \n\n\n\nJan 18 from 6:30 PM – 8:30 PM \n\n\n\nAt Reno Ice at 15500 Wedge Pkwy\, Reno \n\n\n\nSign up by Jan 15th (limited spots available) \n\n\n\nQuestions\, email Glaicy at youthm@parish.com or call (775) 323-6894 ext. 525
URL:https://www.olsparish.com/event/youth-ministry-ice-skating/
END:VEVENT
BEGIN:VEVENT
DTSTART;TZID=America/Los_Angeles:20250119T150000
DTEND;TZID=America/Los_Angeles:20250119T170000
DTSTAMP:20260421T013815
CREATED:20241224T005556Z
LAST-MODIFIED:20241224T005600Z
UID:3854-1737298800-1737306000@www.olsparish.com
SUMMARY:Youth Ministry Winter Party for Middle School
DESCRIPTION:MIDDLE SCHOOL 7th – 8th Grade \n\n\n\nJoin Youth Ministry for a winter party with pizza and games at the Rock House. \n\n\n\nLocated at 1045 Lander St. Entrance is on Walker St. \n\n\n\nJanuary 19th at 3PM \n\n\n\nFor Questions\, email Glaicy at youthm@olsparish.com or call (775) 323-6894 ext. 525
URL:https://www.olsparish.com/event/youth-ministry-winter-party-for-middle-school/
END:VEVENT
BEGIN:VEVENT
DTSTART;TZID=America/Los_Angeles:20250120T080000
DTEND;TZID=America/Los_Angeles:20250123T170000
DTSTAMP:20260421T013815
CREATED:20250103T003133Z
LAST-MODIFIED:20250103T003139Z
UID:3905-1737360000-1737651600@www.olsparish.com
SUMMARY:Clergy Study Days
DESCRIPTION:Clergy Study Days (no daily masses these dates)
URL:https://www.olsparish.com/event/clergy-study-days/
END:VEVENT
BEGIN:VEVENT
DTSTART;TZID=America/Los_Angeles:20250121T143000
DTEND;TZID=America/Los_Angeles:20250121T160000
DTSTAMP:20260421T013815
CREATED:20241026T075751Z
LAST-MODIFIED:20241026T075755Z
UID:3301-1737469800-1737475200@www.olsparish.com
SUMMARY:Food Distribution
DESCRIPTION:
URL:https://www.olsparish.com/event/food-distribution-7/
LOCATION:Church Parking Lot
ATTACH;FMTTYPE=image/jpeg:https://www.olsparish.com/wp-content/uploads/2024/10/food-dist-1.jpg
END:VEVENT
BEGIN:VEVENT
DTSTART;TZID=America/Los_Angeles:20250121T190000
DTEND;TZID=America/Los_Angeles:20250121T210000
DTSTAMP:20260421T013815
CREATED:20241122T013149Z
LAST-MODIFIED:20241228T044637Z
UID:3680-1737486000-1737493200@www.olsparish.com
SUMMARY:Faith Sharing Potluck
DESCRIPTION:Bring your favorite side dish or dessert and your faith as we read and discuss the upcoming week’s Gospel. 
URL:https://www.olsparish.com/event/faith-sharing-potluck-2/
LOCATION:The Rock House 1045 Lander Street Reno\, NV 89509
ATTACH;FMTTYPE=image/jpeg:https://www.olsparish.com/wp-content/uploads/2024/11/Faith-Sharing-Potluck.jpg
END:VEVENT
BEGIN:VEVENT
DTSTART;TZID=America/Los_Angeles:20250124T190000
DTEND;TZID=America/Los_Angeles:20250124T200000
DTSTAMP:20260421T013815
CREATED:20241228T044921Z
LAST-MODIFIED:20250115T233913Z
UID:3873-1737745200-1737748800@www.olsparish.com
SUMMARY:Service and Game Night
DESCRIPTION:Some for a night of service and fun. We will be creating bags of hope for the unhoused population and then gaming the night away.
URL:https://www.olsparish.com/event/cooking-class/
LOCATION:The Rock House 1045 Lander Street Reno\, NV 89509
ATTACH;FMTTYPE=image/jpeg:https://www.olsparish.com/wp-content/uploads/2024/12/Service-and-Game-Night.jpg
END:VEVENT
BEGIN:VEVENT
DTSTART;TZID=America/Los_Angeles:20250125T063000
DTEND;TZID=America/Los_Angeles:20250125T170000
DTSTAMP:20260421T013815
CREATED:20250115T235258Z
LAST-MODIFIED:20250115T235302Z
UID:3988-1737786600-1737824400@www.olsparish.com
SUMMARY:Walk for Life
DESCRIPTION:The 21st Anniversary of the Walk for Life is taking place on Saturday\, January 25th in San Francisco\, CA. Parishioners from across Washoe County will be joining thousands and thousands of our brothers and sisters on this invaluable pilgrimage for Life. \n\n\n\nBus service is being provided to make the pilgrimage that morning. A bus will be leaving St. Albert the Great Catholic Church at 6:30am prompt on January 25th 2025. Cost to use the bus service is $40 for adults and $20 for students or anyone under 18 years old. \n\n\n\nFor more information or to register for the bus service\, click on the following link:https://forms.gle/NC9FQgBHrV9LK8Qm9
URL:https://www.olsparish.com/event/walk-for-life/
END:VEVENT
BEGIN:VEVENT
DTSTART;TZID=America/Los_Angeles:20250125T080000
DTEND;TZID=America/Los_Angeles:20250126T170000
DTSTAMP:20260421T013815
CREATED:20250103T003559Z
LAST-MODIFIED:20250103T003604Z
UID:3907-1737792000-1737910800@www.olsparish.com
SUMMARY:Confirmation Retreat
DESCRIPTION:Confirmation Retreat (Parish Center) all Day
URL:https://www.olsparish.com/event/confirmation-retreat/
END:VEVENT
BEGIN:VEVENT
DTSTART;TZID=America/Los_Angeles:20250125T080000
DTEND;TZID=America/Los_Angeles:20250126T170000
DTSTAMP:20260421T013815
CREATED:20250109T233523Z
LAST-MODIFIED:20250109T233527Z
UID:3955-1737792000-1737910800@www.olsparish.com
SUMMARY:Cookies Needed for the Confirmation Retreat
DESCRIPTION:We need households to make/supply cookies for the 100 kids attending \n\n\n\nPlease deliver to the Parish office by Jan 24\, 4:30pm
URL:https://www.olsparish.com/event/cookies-needed-for-the-confirmation-retreat/
END:VEVENT
BEGIN:VEVENT
DTSTART;TZID=America/Los_Angeles:20250125T170000
DTEND;TZID=America/Los_Angeles:20250125T190000
DTSTAMP:20260421T013815
CREATED:20241017T233257Z
LAST-MODIFIED:20241017T233301Z
UID:3228-1737824400-1737831600@www.olsparish.com
SUMMARY:Hot Chocolate and Games
DESCRIPTION:
URL:https://www.olsparish.com/event/hot-chocolate-and-games/
CATEGORIES:Youth Ministry
END:VEVENT
BEGIN:VEVENT
DTSTART;TZID=America/Los_Angeles:20250126T080000
DTEND;TZID=America/Los_Angeles:20250202T170000
DTSTAMP:20260421T013815
CREATED:20241120T034632Z
LAST-MODIFIED:20241120T034637Z
UID:3598-1737878400-1738515600@www.olsparish.com
SUMMARY:Catholic Schools Week
DESCRIPTION:
URL:https://www.olsparish.com/event/catholic-schools-week/
END:VEVENT
BEGIN:VEVENT
DTSTART;TZID=America/Los_Angeles:20250128T110000
DTEND;TZID=America/Los_Angeles:20250128T120000
DTSTAMP:20260421T013815
CREATED:20250103T003912Z
LAST-MODIFIED:20250103T003916Z
UID:3909-1738062000-1738065600@www.olsparish.com
SUMMARY:Munson Funeral
DESCRIPTION:
URL:https://www.olsparish.com/event/munson-funeral/
END:VEVENT
BEGIN:VEVENT
DTSTART;TZID=America/Los_Angeles:20250128T190000
DTEND;TZID=America/Los_Angeles:20250128T200000
DTSTAMP:20260421T013815
CREATED:20250109T233411Z
LAST-MODIFIED:20250109T233415Z
UID:3953-1738090800-1738094400@www.olsparish.com
SUMMARY:Men’s Study of the Mass
DESCRIPTION:Every 2nd & 4th Tuesday of the Month starting Jan 14th \n\n\n\n7-8 pm at the Parish Center \n\n\n\nCome learn more of the meaning underlying the Mass using Bishop Mueggenborg’s Meaning of the Mass.
URL:https://www.olsparish.com/event/mens-study-of-the-mass-2/
LOCATION:OLS Parish Center
END:VEVENT
BEGIN:VEVENT
DTSTART;TZID=America/Los_Angeles:20250130T110000
DTEND;TZID=America/Los_Angeles:20250130T120000
DTSTAMP:20260421T013815
CREATED:20250103T004230Z
LAST-MODIFIED:20250103T004235Z
UID:3911-1738234800-1738238400@www.olsparish.com
SUMMARY:Roth Funeral
DESCRIPTION:
URL:https://www.olsparish.com/event/roth-funeral/
END:VEVENT
END:VCALENDAR